Workbook

Sheet 月別集計
A1: 店舗別・月別 売上集計（2026年7〜9月）
A2: ※売上明細シートに入力すると自動で更新されます（架空のデータ）
A4: 店舗 | B4: 7月 | C4: 8月 | D4: 9月 | E4: 合計 | F4: 前月比（9月/8月） | G4: 構成比
A5: 栄店 | B5: =SUMIFS(売上明細!$I:$I,売上明細!$D:$D,$A5,売上明細!$A:$A,">="&DATE(2026,7,1),売上明細!$A:$A,"<="&EOMONTH(DATE(2026,7,1),0)) | C5: =SUMIFS(売上明細!$I:$I,売上明細!$D:$D,$A5,売上明細!$A:$A,">="&DATE(2026,8,1),売上明細!$A:$A,"<="&EOMONTH(DATE(2026,8,1),0)) | D5: =SUMIFS(売上明細!$I:$I,売上明細!$D:$D,$A5,売上明細!$A:$A,">="&DATE(2026,9,1),売上明細!$A:$A,"<="&EOMONTH(DATE(2026,9,1),0)) | E5: =SUM(B5:D5) | F5: =IFERROR(D5/C5-1,"-") | G5: =E5/$E$8
A6: 金山店 | B6: =SUMIFS(売上明細!$I:$I,売上明細!$D:$D,$A6,売上明細!$A:$A,">="&DATE(2026,7,1),売上明細!$A:$A,"<="&EOMONTH(DATE(2026,7,1),0)) | C6: =SUMIFS(売上明細!$I:$I,売上明細!$D:$D,$A6,売上明細!$A:$A,">="&DATE(2026,8,1),売上明細!$A:$A,"<="&EOMONTH(DATE(2026,8,1),0)) | D6: =SUMIFS(売上明細!$I:$I,売上明細!$D:$D,$A6,売上明細!$A:$A,">="&DATE(2026,9,1),売上明細!$A:$A,"<="&EOMONTH(DATE(2026,9,1),0)) | E6: =SUM(B6:D6) | F6: =IFERROR(D6/C6-1,"-") | G6: =E6/$E$8
A7: 大須店 | B7: =SUMIFS(売上明細!$I:$I,売上明細!$D:$D,$A7,売上明細!$A:$A,">="&DATE(2026,7,1),売上明細!$A:$A,"<="&EOMONTH(DATE(2026,7,1),0)) | C7: =SUMIFS(売上明細!$I:$I,売上明細!$D:$D,$A7,売上明細!$A:$A,">="&DATE(2026,8,1),売上明細!$A:$A,"<="&EOMONTH(DATE(2026,8,1),0)) | D7: =SUMIFS(売上明細!$I:$I,売上明細!$D:$D,$A7,売上明細!$A:$A,">="&DATE(2026,9,1),売上明細!$A:$A,"<="&EOMONTH(DATE(2026,9,1),0)) | E7: =SUM(B7:D7) | F7: =IFERROR(D7/C7-1,"-") | G7: =E7/$E$8
A8: 合計 | B8: =SUM(B5:B7) | C8: =SUM(C5:C7) | D8: =SUM(D5:D7) | E8: =SUM(E5:E7) | F8: =IFERROR(D8/C8-1,"-") | G8: =E8/$E$8
A11: 分類別の売上と平均単価
A12: 分類 | B12: 売上 | C12: 販売数 | D12: 平均単価（売上÷数）
A13: ドリンク | B13: =SUMIFS(売上明細!$I:$I,売上明細!$F:$F,A13) | C13: =SUMIFS(売上明細!$H:$H,売上明細!$F:$F,A13) | D13: =IFERROR(B13/C13,0)
A14: スイーツ | B14: =SUMIFS(売上明細!$I:$I,売上明細!$F:$F,A14) | C14: =SUMIFS(売上明細!$H:$H,売上明細!$F:$F,A14) | D14: =IFERROR(B14/C14,0)
A15: フード | B15: =SUMIFS(売上明細!$I:$I,売上明細!$F:$F,A15) | C15: =SUMIFS(売上明細!$H:$H,売上明細!$F:$F,A15) | D15: =IFERROR(B15/C15,0)
A18: 担当者別の売上ランキング
A19: 順位 | B19: 担当者 | C19: 売上
A20: 1 | B20: =INDEX(担当者マスタ!$B$2:$B$7,MATCH(C20,担当者マスタ!$I$2:$I$7,0)) | C20: =LARGE(担当者マスタ!$I$2:$I$7,A20)
A21: 2 | B21: =INDEX(担当者マスタ!$B$2:$B$7,MATCH(C21,担当者マスタ!$I$2:$I$7,0)) | C21: =LARGE(担当者マスタ!$I$2:$I$7,A21)
A22: 3 | B22: =INDEX(担当者マスタ!$B$2:$B$7,MATCH(C22,担当者マスタ!$I$2:$I$7,0)) | C22: =LARGE(担当者マスタ!$I$2:$I$7,A22)
A23: 4 | B23: =INDEX(担当者マスタ!$B$2:$B$7,MATCH(C23,担当者マスタ!$I$2:$I$7,0)) | C23: =LARGE(担当者マスタ!$I$2:$I$7,A23)
A24: 5 | B24: =INDEX(担当者マスタ!$B$2:$B$7,MATCH(C24,担当者マスタ!$I$2:$I$7,0)) | C24: =LARGE(担当者マスタ!$I$2:$I$7,A24)
A25: 6 | B25: =INDEX(担当者マスタ!$B$2:$B$7,MATCH(C25,担当者マスタ!$I$2:$I$7,0)) | C25: =LARGE(担当者マスタ!$I$2:$I$7,A25)

Sheet 担当者マスタ
A1: 担当者ID | B1: 氏名 | C1: 店舗 | E1: 商品 | F1: 分類 | G1: 単価 | I1: 売上（集計用）
A2: S01 | B2: 森 | C2: 栄店 | E2: ブレンドコーヒー | F2: ドリンク | G2: 480 | I2: =SUMIFS(売上明細!$I:$I,売上明細!$B:$B,A2)
A3: S02 | B3: 川口 | C3: 栄店 | E3: カフェラテ | F3: ドリンク | G3: 560 | I3: =SUMIFS(売上明細!$I:$I,売上明細!$B:$B,A3)
A4: S03 | B4: 野村 | C4: 金山店 | E4: 季節のパフェ | F4: スイーツ | G4: 980 | I4: =SUMIFS(売上明細!$I:$I,売上明細!$B:$B,A4)
A5: S04 | B5: 早川 | C5: 金山店 | E5: チーズケーキ | F5: スイーツ | G5: 520 | I5: =SUMIFS(売上明細!$I:$I,売上明細!$B:$B,A5)
A6: S05 | B6: 小林 | C6: 大須店 | E6: ナポリタン | F6: フード | G6: 880 | I6: =SUMIFS(売上明細!$I:$I,売上明細!$B:$B,A6)
A7: S06 | B7: 伊藤 | C7: 大須店 | E7: ホットサンド | F7: フード | G7: 650 | I7: =SUMIFS(売上明細!$I:$I,売上明細!$B:$B,A7)

Sheet 売上明細
A1: 日付 | B1: 担当者ID | C1: 担当者 | D1: 店舗 | E1: 商品 | F1: 分類 | G1: 単価 | H1: 数量 | I1: 金額
A2: 46204 | B2: S02 | C2: =IFERROR(VLOOKUP(B2,担当者マスタ!$A:$C,2,FALSE),"未登録") | D2: =IFERROR(VLOOKUP(B2,担当者マスタ!$A:$C,3,FALSE),"未登録") | E2: チーズケーキ | F2: =IFERROR(VLOOKUP(E2,担当者マスタ!$E:$G,2,FALSE),"") | G2: =IFERROR(VLOOKUP(E2,担当者マスタ!$E:$G,3,FALSE),0) | H2: 6 | I2: =G2*H2
A3: 46204 | B3: S01 | C3: =IFERROR(VLOOKUP(B3,担当者マスタ!$A:$C,2,FALSE),"未登録") | D3: =IFERROR(VLOOKUP(B3,担当者マスタ!$A:$C,3,FALSE),"未登録") | E3: ブレンドコーヒー | F3: =IFERROR(VLOOKUP(E3,担当者マスタ!$E:$G,2,FALSE),"") | G3: =IFERROR(VLOOKUP(E3,担当者マスタ!$E:$G,3,FALSE),0) | H3: 5 | I3: =G3*H3
A4: 46205 | B4: S03 | C4: =IFERROR(VLOOKUP(B4,担当者マスタ!$A:$C,2,FALSE),"未登録") | D4: =IFERROR(VLOOKUP(B4,担当者マスタ!$A:$C,3,FALSE),"未登録") | E4: ナポリタン | F4: =IFERROR(VLOOKUP(E4,担当者マスタ!$E:$G,2,FALSE),"") | G4: =IFERROR(VLOOKUP(E4,担当者マスタ!$E:$G,3,FALSE),0) | H4: 1 | I4: =G4*H4
A5: 46206 | B5: S02 | C5: =IFERROR(VLOOKUP(B5,担当者マスタ!$A:$C,2,FALSE),"未登録") | D5: =IFERROR(VLOOKUP(B5,担当者マスタ!$A:$C,3,FALSE),"未登録") | E5: ブレンドコーヒー | F5: =IFERROR(VLOOKUP(E5,担当者マスタ!$E:$G,2,FALSE),"") | G5: =IFERROR(VLOOKUP(E5,担当者マスタ!$E:$G,3,FALSE),0) | H5: 1 | I5: =G5*H5
A6: 46206 | B6: S04 | C6: =IFERROR(VLOOKUP(B6,担当者マスタ!$A:$C,2,FALSE),"未登録") | D6: =IFERROR(VLOOKUP(B6,担当者マスタ!$A:$C,3,FALSE),"未登録") | E6: チーズケーキ | F6: =IFERROR(VLOOKUP(E6,担当者マスタ!$E:$G,2,FALSE),"") | G6: =IFERROR(VLOOKUP(E6,担当者マスタ!$E:$G,3,FALSE),0) | H6: 1 | I6: =G6*H6
A7: 46206 | B7: S02 | C7: =IFERROR(VLOOKUP(B7,担当者マスタ!$A:$C,2,FALSE),"未登録") | D7: =IFERROR(VLOOKUP(B7,担当者マスタ!$A:$C,3,FALSE),"未登録") | E7: ブレンドコーヒー | F7: =IFERROR(VLOOKUP(E7,担当者マスタ!$E:$G,2,FALSE),"") | G7: =IFERROR(VLOOKUP(E7,担当者マスタ!$E:$G,3,FALSE),0) | H7: 5 | I7: =G7*H7
A8: 46207 | B8: S01 | C8: =IFERROR(VLOOKUP(B8,担当者マスタ!$A:$C,2,FALSE),"未登録") | D8: =IFERROR(VLOOKUP(B8,担当者マスタ!$A:$C,3,FALSE),"未登録") | E8: ナポリタン | F8: =IFERROR(VLOOKUP(E8,担当者マスタ!$E:$G,2,FALSE),"") | G8: =IFERROR(VLOOKUP(E8,担当者マスタ!$E:$G,3,FALSE),0) | H8: 1 | I8: =G8*H8
A9: 46207 | B9: S02 | C9: =IFERROR(VLOOKUP(B9,担当者マスタ!$A:$C,2,FALSE),"未登録") | D9: =IFERROR(VLOOKUP(B9,担当者マスタ!$A:$C,3,FALSE),"未登録") | E9: ホットサンド | F9: =IFERROR(VLOOKUP(E9,担当者マスタ!$E:$G,2,FALSE),"") | G9: =IFERROR(VLOOKUP(E9,担当者マスタ!$E:$G,3,FALSE),0) | H9: 6 | I9: =G9*H9
A10: 46208 | B10: S01 | C10: =IFERROR(VLOOKUP(B10,担当者マスタ!$A:$C,2,FALSE),"未登録") | D10: =IFERROR(VLOOKUP(B10,担当者マスタ!$A:$C,3,FALSE),"未登録") | E10: ナポリタン | F10: =IFERROR(VLOOKUP(E10,担当者マスタ!$E:$G,2,FALSE),"") | G10: =IFERROR(VLOOKUP(E10,担当者マスタ!$E:$G,3,FALSE),0) | H10: 5 | I10: =G10*H10
A11: 46208 | B11: S04 | C11: =IFERROR(VLOOKUP(B11,担当者マスタ!$A:$C,2,FALSE),"未登録") | D11: =IFERROR(VLOOKUP(B11,担当者マスタ!$A:$C,3,FALSE),"未登録") | E11: ブレンドコーヒー | F11: =IFERROR(VLOOKUP(E11,担当者マスタ!$E:$G,2,FALSE),"") | G11: =IFERROR(VLOOKUP(E11,担当者マスタ!$E:$G,3,FALSE),0) | H11: 2 | I11: =G11*H11
A12: 46208 | B12: S01 | C12: =IFERROR(VLOOKUP(B12,担当者マスタ!$A:$C,2,FALSE),"未登録") | D12: =IFERROR(VLOOKUP(B12,担当者マスタ!$A:$C,3,FALSE),"未登録") | E12: ナポリタン | F12: =IFERROR(VLOOKUP(E12,担当者マスタ!$E:$G,2,FALSE),"") | G12: =IFERROR(VLOOKUP(E12,担当者マスタ!$E:$G,3,FALSE),0) | H12: 2 | I12: =G12*H12
A13: 46209 | B13: S04 | C13: =IFERROR(VLOOKUP(B13,担当者マスタ!$A:$C,2,FALSE),"未登録") | D13: =IFERROR(VLOOKUP(B13,担当者マスタ!$A:$C,3,FALSE),"未登録") | E13: カフェラテ | F13: =IFERROR(VLOOKUP(E13,担当者マスタ!$E:$G,2,FALSE),"") | G13: =IFERROR(VLOOKUP(E13,担当者マスタ!$E:$G,3,FALSE),0) | H13: 5 | I13: =G13*H13
... A180: 46295 | B180: S02 | C180: =IFERROR(VLOOKUP(B180,担当者マスタ!$A:$C,2,FALSE),"未登録") | D180: =IFERROR(VLOOKUP(B180,担当者マスタ!$A:$C,3,FALSE),"未登録") | E180: 季節のパフェ | F180: =IFERROR(VLOOKUP(E180,担当者マスタ!$E:$G,2,FALSE),"") | G180: =IFERROR(VLOOKUP(E180,担当者マスタ!$E:$G,3,FALSE),0) | H180: 4 | I180: =G180*H180
